BEGIN:VCALENDAR
VERSION:2.0
CALSCALE:GREGORIAN
PRODID:-//MyApp//Calendar 1.0//EN
BEGIN:VEVENT
METHOD:PUBLISH
UID:44383@regionalniportaly.cz
DTSTAMP:20260422T193258Z
DTSTART;VALUE=DATE:20241113
DTEND;VALUE=DATE:20241114
SUMMARY:Zdravě jíst\, zdravě žít - Znojmo - Stenzlová\, Dluhý-Smith
DESCRIPTION:Zdravě jíst &amp\; zdravě žítZažijte jedinečné osobní setkání s mikrobioložkou a autorkou dvou knižních bestsellerů o metabolické rovnováze a integrativní výživě\, Ivanou Stenzlovou\, a badatelem/novinářem Radovanem Dluhý - Smithem.Jediná přednáška a beseda svého druhu se teď koná na několika pečlivě vybraných místech na Moravě a vy můžete být její součástí.&nbsp\;Dozvíte se mimo jiné\, jak si vytvořit zcela nový stravovací systém\, který vede k prosperitě a zdraví. Bude se mluvit o korporátním potravinářském průmyslu\, toxinech v jídle\, Tradiční čínské medicíně&nbsp\;nebo o novějších projektech našich hostů jakými je např. Škola pětielementového vaření. Bude řeč také o ověřených výzkumech z oblasti umělé inteligence\, ovlivňování počasí\, Green Dealu a o dalším globálním dění\, které ovlivňuje naše každodenní životy. Prostor samozřejmě bude i pro vaše dotazy.Zdravě jíst &amp\;&nbsp\;zdravě žít. To je jedinečná přednáška a beseda vč. osobního setkání.&nbsp\;Vemte své fyzické i duševní zdraví do svých rukou právě teď.V sále Cetra Louka&nbsp\;je volné sezení / vstupenka neobsahuje místenku / sál bude otevřen v 18:30 hod.
LOCATION:Znojmo
END:VEVENT
END:VCALENDAR