BEGIN:VCALENDAR
VERSION:2.0
CALSCALE:GREGORIAN
PRODID:-//MyApp//Calendar 1.0//EN
BEGIN:VEVENT
METHOD:PUBLISH
UID:44398@regionalniportaly.cz
DTSTAMP:20260422T221807Z
DTSTART;VALUE=DATE:20240727
DTEND;VALUE=DATE:20240728
SUMMARY:Festivalová stodola: Degustace festivalové kolekce vín
DESCRIPTION:V příjemném a&nbsp\;pro víno typickém prostředí stodoly Antonína Stehlíka v&nbsp\;Novém Šaldorfu budete mít možnost diskutovat nad&nbsp\;sklenkou kvalitního vína. Občerstvení k&nbsp\;ochutnávce zajištěno.
LOCATION:Nový Šaldorf-Sedlešovice
END:VEVENT
END:VCALENDAR