BEGIN:VCALENDAR
VERSION:2.0
CALSCALE:GREGORIAN
PRODID:-//MyApp//Calendar 1.0//EN
BEGIN:VEVENT
METHOD:PUBLISH
UID:44403@regionalniportaly.cz
DTSTAMP:20260422T204937Z
DTSTART;VALUE=DATE:20240719
DTEND;VALUE=DATE:20240720
SUMMARY:Na stojáka
DESCRIPTION:"Co dělají Znojmáci\, když dostanou chuť na sladké? Vyndají okurku z nálevu a dají si ji s medem." Tak tenhle styl humoru čekat od trojice Arnošt Frauenberg\, Kateřina Hašková a Karel Hynek očekávat nemusíte\, jelikož dostanete něco mnohem lepšího! Nakládat do láku Vás začneme od 19:00!Znojemský městský pivovar Zahrádka
LOCATION:Znojmo
END:VEVENT
END:VCALENDAR