BEGIN:VCALENDAR
VERSION:2.0
CALSCALE:GREGORIAN
PRODID:-//MyApp//Calendar 1.0//EN
BEGIN:VEVENT
METHOD:PUBLISH
UID:44852@regionalniportaly.cz
DTSTAMP:20260423T010737Z
DTSTART;VALUE=DATE:20240919
DTEND;VALUE=DATE:20240920
SUMMARY:Nejlepší strava nejen pro sportující
DESCRIPTION:Pro udržení zdraví a top kondice je nejdůležitější to\, co jíme\, co děláme a jak myslíme. Jak zvládat skutečné jídlo\, dostatek pohybu a spánku\, pobytu venku\, slunce a pohody v běžném životě\, při studiu&nbsp\;i při sportu?&nbsp\;Jaké jsou nejběžnější výživové omyly a moje výživová doporučení?&nbsp\;PharmDr. Margit Slimáková\, dietoložka\, bloggerka a propagátorka zdravotní prevence. Autorka bestsellerů „Velmi osobní kniha o zdraví“ a „Osobní receptář pro zdraví a pohodu“ a výživového doporučení Zdravý talíř. Zakladatelka 1. českého think tanku Globopol věnujícího se tématům zdravotní prevence a výživy.Pravidelně publikuje a přednáší\, propaguje zdravou výživu pro školy a nemocnice. Má za sebou stovky vystoupení\, blog postů a příspěvků do médií.Ve své praxi využívá osvědčené poznatky ze všech oblastí medicíny. Podle průzkumu nezávislé mezinárodní organizace Ashoka je nejvlivnější českou expertkou v oblasti zdravého životního stylu\, zdravé výživy a přístupu ke zdravotní péči.Akce se uskuteční za podpory Jihomoravského kraje.
LOCATION:Znojmo
END:VEVENT
END:VCALENDAR