BEGIN:VCALENDAR
VERSION:2.0
CALSCALE:GREGORIAN
PRODID:-//MyApp//Calendar 1.0//EN
BEGIN:VEVENT
METHOD:PUBLISH
UID:45977@regionalniportaly.cz
DTSTAMP:20260422T221050Z
DTSTART;VALUE=DATE:20241004
DTEND;VALUE=DATE:20241005
SUMMARY:Michal Isteník
DESCRIPTION:Beseda s populárním hercem Michalem Isteníkem.
LOCATION:Znojmo
END:VEVENT
END:VCALENDAR