BEGIN:VCALENDAR
VERSION:2.0
CALSCALE:GREGORIAN
PRODID:-//MyApp//Calendar 1.0//EN
BEGIN:VEVENT
METHOD:PUBLISH
UID:45978@regionalniportaly.cz
DTSTAMP:20260422T210502Z
DTSTART;VALUE=DATE:20241111
DTEND;VALUE=DATE:20241112
SUMMARY:Alena Antalová
DESCRIPTION:Beseda s populární herečkou Alenou Antalovou.
LOCATION:Znojmo
END:VEVENT
END:VCALENDAR