BEGIN:VCALENDAR
VERSION:2.0
CALSCALE:GREGORIAN
PRODID:-//MyApp//Calendar 1.0//EN
BEGIN:VEVENT
METHOD:PUBLISH
UID:45979@regionalniportaly.cz
DTSTAMP:20260423T010715Z
DTSTART;VALUE=DATE:20241129
DTEND;VALUE=DATE:20241130
SUMMARY:Opravna duší
DESCRIPTION:Hudebně literární pořad Dáši Zázvůrkové a Martiny Preissové.
LOCATION:Znojmo
END:VEVENT
END:VCALENDAR