BEGIN:VCALENDAR
VERSION:2.0
CALSCALE:GREGORIAN
PRODID:-//MyApp//Calendar 1.0//EN
BEGIN:VEVENT
METHOD:PUBLISH
UID:45984@regionalniportaly.cz
DTSTAMP:20260423T010834Z
DTSTART;VALUE=DATE:20241212
DTEND;VALUE=DATE:20241213
SUMMARY:Nezmaři - vánoční koncert
DESCRIPTION:Tradiční vánoční koncert Nezmarů.
LOCATION:Znojmo
END:VEVENT
END:VCALENDAR