BEGIN:VCALENDAR
VERSION:2.0
CALSCALE:GREGORIAN
PRODID:-//MyApp//Calendar 1.0//EN
BEGIN:VEVENT
METHOD:PUBLISH
UID:46261@regionalniportaly.cz
DTSTAMP:20260422T205119Z
DTSTART;VALUE=DATE:20250127
DTEND;VALUE=DATE:20250128
SUMMARY:Kafe u OSMANYHO | Znojmo
DESCRIPTION:Oblíbený zábavný pořad plný neuvěřitelných historek v podání Osmanyho Laffity míří do Znojma!Originální pořad s populární osobností módního světa.Devadesát minut neuvěřitelných historek ze života Osmanyho Laffity\, při kterých se divák baví od první chvíle. Osmany odhalí i to\, co mělo zůstat utajeno! A bez cenzury!Moderuje Eva Decastelo.
LOCATION:Znojmo
END:VEVENT
END:VCALENDAR