BEGIN:VCALENDAR
VERSION:2.0
CALSCALE:GREGORIAN
PRODID:-//MyApp//Calendar 1.0//EN
BEGIN:VEVENT
METHOD:PUBLISH
UID:46330@regionalniportaly.cz
DTSTAMP:20260423T022826Z
DTSTART;VALUE=DATE:20241021
DTEND;VALUE=DATE:20241022
SUMMARY:Proč sport prospívá našemu zdraví?
DESCRIPTION:Člověk se vyvinul jako pohybující se součást živé přírody. Avšak rozvoj civilizace\, zvláště pokrok v technologii od průmyslové revoluce na konci 19. století\, zásadně předstihl vývoj našeho druhu. A tak jsme vystaveni změněným životním podmínkám\, kdy velice klesá potřeba zvýšené fyzické námahy. Na druhé straně máme mnohem větší přísun kaloricky vydatné potravy a nápojů. Výsledkem toho je vznik civilizačních chorob\, mezi které patří především ischemická choroba srdeční\, obezita\, cukrovka 2. typu a vysoký krevní tlak. A jedním ze zásadních způsobů\, jak těmto chorobám předcházet je\, abychom si opět zvýšili fyzickou dynamickou svalovou námahu. A tím nejlepším pro náš organismus je sport.Prof. MUDr. Jan Pirk\, DrSc.\, je významný český kardiochirurg s mezinárodním renomé. Dlouhodobě působí ve vedení pražského IKEMu (Institut klinické a experimentální medicíny)\, kde se specializuje na transplantace srdce a operace srdečních chlopní. Je autorem mnoha odborných publikací a pravidelně přednáší na univerzitách i v zahraničí. Vedle své lékařské praxe je známým propagátorem zdravého životního stylu\, pravidelného pohybu a sportu\, kterým se sám aktivně věnuje. Jeho přednáška na téma "Proč sport prospívá našemu zdraví?" slibuje praktické tipy a zajímavé poznatky z jeho mnohaleté&nbsp\;praxe.Akce se uskuteční za podpory Jihomoravského kraje.
LOCATION:Znojmo
END:VEVENT
END:VCALENDAR