BEGIN:VCALENDAR
VERSION:2.0
CALSCALE:GREGORIAN
PRODID:-//MyApp//Calendar 1.0//EN
BEGIN:VEVENT
METHOD:PUBLISH
UID:46417@regionalniportaly.cz
DTSTAMP:20260422T233913Z
DTSTART;VALUE=DATE:20250117
DTEND;VALUE=DATE:20250118
SUMMARY:Jazzový víkend v klubech: PATO & LUMOS (CZ)
DESCRIPTION:Multižánrový autorský projekt kolem českého zpěváka a skladatele Patrika Šudáka. Hudba kapely klade důraz na zpěvnou melodii a prostor pro sebevyjádření každého muzikanta.Přijďte na koncert Pato &amp\; Lumos načerpat pozitivní energii\, kterou vám jejich vystoupení jistě dodá.Obsazení:Patrik Šudák&nbsp\;– zpěvKateřina Hošková&nbsp\;– kytaraVít Sladký&nbsp\;– pianoMatěj Kolařík&nbsp\;– baskytaraMartin Kout&nbsp\;– bicí
LOCATION:Znojmo
END:VEVENT
END:VCALENDAR