BEGIN:VCALENDAR
VERSION:2.0
CALSCALE:GREGORIAN
PRODID:-//MyApp//Calendar 1.0//EN
BEGIN:VEVENT
METHOD:PUBLISH
UID:46419@regionalniportaly.cz
DTSTAMP:20260422T222031Z
DTSTART;VALUE=DATE:20250117
DTEND;VALUE=DATE:20250118
SUMMARY:Novoroční koncert Stadtmusik Hollabrunn (AT)
DESCRIPTION:Výtěžek z&nbsp\;akce je věnován na&nbsp\;podporu dvojjazyčné mateřské Školky bez hranic v&nbsp\;Dolnorakouském Mitterretzbachu.
LOCATION:Znojmo
END:VEVENT
END:VCALENDAR