BEGIN:VCALENDAR
VERSION:2.0
CALSCALE:GREGORIAN
PRODID:-//MyApp//Calendar 1.0//EN
BEGIN:VEVENT
METHOD:PUBLISH
UID:46428@regionalniportaly.cz
DTSTAMP:20260423T010842Z
DTSTART;VALUE=DATE:20250118
DTEND;VALUE=DATE:20250119
SUMMARY:Jazzový víkend v klubech: JAZZY TALKING (CZ)
DESCRIPTION:I na&nbsp\;malém městě se&nbsp\;dá hrát velký jazz. Uskupení ze&nbsp\;Znojma ve&nbsp\;složení Gizela Burská (zpěv)\, Michal Smrčka (piano)\, Ludvík Leischner (saxofon)\, Květoslav Jagoš (basa)\, Martin Havlík (bicí).Obsazení:Gizela Burská&nbsp\;– zpěvMichal Smrčka&nbsp\;– klavírLudvík Leischner&nbsp\;– saxofonKvětoslav Jagoš&nbsp\;– basová kytaraMartin Havlík&nbsp\;– bicí
LOCATION:Znojmo
END:VEVENT
END:VCALENDAR