BEGIN:VCALENDAR
VERSION:2.0
CALSCALE:GREGORIAN
PRODID:-//MyApp//Calendar 1.0//EN
BEGIN:VEVENT
METHOD:PUBLISH
UID:46429@regionalniportaly.cz
DTSTAMP:20260423T010728Z
DTSTART;VALUE=DATE:20250124
DTEND;VALUE=DATE:20250125
SUMMARY:Hetty Kate: All about Jazz (AUS/CZ)
DESCRIPTION:Charismatická a technicky nadaná australská jazzová a swingová zpěvačka\, která vydala devět alb a ozdobila klubová i festivalová pódia od Nového Zélandu po New York. Na pódiu opravdová frontmanka a bavička a její přirozená muzikálnost a vokální čistota zaručují\, že je její hlas okamžitě rozpoznatelný.Obsazení:Hetty Kate (AUS) - zpěvLibor Šmoldas (CZ) - kytaraNick Haywood (AUS) - kontrabas
LOCATION:Znojmo
END:VEVENT
END:VCALENDAR