BEGIN:VCALENDAR
VERSION:2.0
CALSCALE:GREGORIAN
PRODID:-//MyApp//Calendar 1.0//EN
BEGIN:VEVENT
METHOD:PUBLISH
UID:46542@regionalniportaly.cz
DTSTAMP:20260422T221923Z
DTSTART;VALUE=DATE:20250206
DTEND;VALUE=DATE:20250207
SUMMARY:Stefano Ronchi Band (IT/CZ)
DESCRIPTION:Stefano Ronchi neboli Stef Rosen je kytarista a&nbsp\;zpěvák italského původu\, který je považován za&nbsp\;jednoho z&nbsp\;nejvíce inovativních a&nbsp\;originalních bluesových hráčů\, kteří se&nbsp\;v Evropě v&nbsp\;posledním desetiletí objevili. Jeho způsob skládání\, hraní a&nbsp\;aranžování je inspirován jak elektrickým blues ze&nbsp\;70. let\, tak i&nbsp\;dřevním akustickým blues z&nbsp\;konce 20. let. Na&nbsp\;tradici této hudby pohlíží Stef velmi osobním a&nbsp\;žánr respektujícím přístupem.Obsazení:Stef Rosen&nbsp\;– kytara\, zpěvJakub Zomer&nbsp\;– klávesyMatin Kopřiva&nbsp\;– bicíhttps://stefrosen.com
LOCATION:Znojmo
END:VEVENT
END:VCALENDAR