BEGIN:VCALENDAR
VERSION:2.0
CALSCALE:GREGORIAN
PRODID:-//MyApp//Calendar 1.0//EN
BEGIN:VEVENT
METHOD:PUBLISH
UID:46543@regionalniportaly.cz
DTSTAMP:20260422T205155Z
DTSTART;VALUE=DATE:20250314
DTEND;VALUE=DATE:20250315
SUMMARY:Mr. Lovo (CZ)
DESCRIPTION:Kapela vznikla v&nbsp\;roce 2020\, kdy se&nbsp\;dala dohromady parta kamarádů\, kteří se&nbsp\;už nějakou dobu sami hudebně hledali. Vzniklá formace Mr.Lovo byla výsledkem jejich společné lásky k&nbsp\;experimentu\, improvizaci a&nbsp\;otevřenému přístupu k&nbsp\;hudební tvorbě. Od prvotních coververzí skladeb známých umělců z&nbsp\;oblasti jazzrock / fusion a&nbsp\;funk se&nbsp\;dopracovali k&nbsp\;vlastnímu tvůrčímu výrazu a&nbsp\;začali skládat vlastní hudbu.Obsazení:Petr Venkrbec&nbsp\;– sax\, synth\, wind controllerMartin Poledna&nbsp\;– piano\, synthLadislav Výmola&nbsp\;– kytaraRumil Kofta&nbsp\;– baskytara\, kontrabasLibor Orel&nbsp\;– bicí&nbsp\;www.mrlovo.org&nbsp\;
LOCATION:Znojmo
END:VEVENT
END:VCALENDAR