BEGIN:VCALENDAR
VERSION:2.0
CALSCALE:GREGORIAN
PRODID:-//MyApp//Calendar 1.0//EN
BEGIN:VEVENT
METHOD:PUBLISH
UID:46544@regionalniportaly.cz
DTSTAMP:20260423T033822Z
DTSTART;VALUE=DATE:20250219
DTEND;VALUE=DATE:20250220
SUMMARY:The Jujubes (UK)
DESCRIPTION:Jeden zpěv\, jedna harmonika a dvě kytary jsou to\, co dělá The Jujubes autentickým triem s jedinečným bluesovým zvukem. Sandy\, Nikki a Pete tvoří trio sídlící v Londýně\, kam se dostali přes Skotsko\, Nottingham a Hackney. The Jujubes\, se zrodili z vášně udržet bluesový žánr naživu a rádi připomínají citát Willieho Dixona „Blues jsou kořeny a ostatní hudba jsou plody".Obsazení:Nikki Brooks&nbsp\;– zpěvSandy Michie&nbsp\;– kytaraPete Sim&nbsp\;– kytara a&nbsp\;harmonika
LOCATION:Znojmo
END:VEVENT
END:VCALENDAR