BEGIN:VCALENDAR
VERSION:2.0
CALSCALE:GREGORIAN
PRODID:-//MyApp//Calendar 1.0//EN
BEGIN:VEVENT
METHOD:PUBLISH
UID:46545@regionalniportaly.cz
DTSTAMP:20260422T222040Z
DTSTART;VALUE=DATE:20250307
DTEND;VALUE=DATE:20250308
SUMMARY:Elisabeth Lohninger Band – The Music of Queen (US)
DESCRIPTION:Po úspěšném zdžezování písniček The Beatles přichází Walter Fischbacher s jazzovými transkripcemi těch nejlepších kousků skupiny Queen\, vedené Brianem Mayem a Freddiem Mercurym. Projekt bude tentokráte vokální\, využívající vokálu Elisabeth Lohninger\, čímž získá další rozměr… a poprvé se na pódiu ve Walterově sestavě představí hned čtyři Američané!Obsazení:Elisabeth Lohninger&nbsp\;(Austria/USA) –&nbsp\;zpěvWalter Phishbacher&nbsp\;(Austria/USA) –&nbsp\;klávesyMartin Zsiboras&nbsp\;(Hungary) –&nbsp\;baskytaraPaul Jakob Brüllmann&nbsp\;–&nbsp\;(Germany) –&nbsp\;bicí&nbsp\;
LOCATION:Znojmo
END:VEVENT
END:VCALENDAR