BEGIN:VCALENDAR
VERSION:2.0
CALSCALE:GREGORIAN
PRODID:-//MyApp//Calendar 1.0//EN
BEGIN:VEVENT
METHOD:PUBLISH
UID:46547@regionalniportaly.cz
DTSTAMP:20260422T193249Z
DTSTART;VALUE=DATE:20250318
DTEND;VALUE=DATE:20250319
SUMMARY:Michele Biondi Band (IT)
DESCRIPTION:Michele Biondi je italský bluesový zpěvák\, skladatel a hráč na elektrickou kytaru\, pocházející z toskánského Ripafratta. Absolvoval rozsáhlé turné po USA a Evropě a vydal tři sólová alba. Jeho druhé album „Cotton &amp\; Moonshine“ získalo v Evropě a USA nadšené uznání za zcela osobitý přístup k tradičnímu blues. Michelova bluesová kariéra je široká a různorodá\, vystupuje na festivalech jako „Natchez Mississippi Celebration“ (USA)\, „Hambone Mississippi Festival“ (USA)\, „British Blues Festival“ (UK)\, „Lugano Blues Nights“ (Švýcarsko)\, „Lucca Blues festival“ (Itálie) a mnoha dalších... Od roku 2015 až do epidemie covidu Michele Biondi hodně cestoval po celém světě a vytvořil si důležité vazby a spolupráci s mnoha americkými a britskými bluesovými umělci\, jako jsou naoř. Ray Cashman\, Rachelle Coba a Stan Street.Obsazení:Michele Biondi&nbsp\;– zpěv\, kytaraGiovanni Grasso&nbsp\;– baskytaraAngelo Carmignani&nbsp\;– bicí&nbsp\;www.michelebiondiblues.com&nbsp\;
LOCATION:Znojmo
END:VEVENT
END:VCALENDAR