BEGIN:VCALENDAR
VERSION:2.0
CALSCALE:GREGORIAN
PRODID:-//MyApp//Calendar 1.0//EN
BEGIN:VEVENT
METHOD:PUBLISH
UID:46867@regionalniportaly.cz
DTSTAMP:20260423T010905Z
DTSTART;VALUE=DATE:20241023
DTEND;VALUE=DATE:20241024
SUMMARY:Benefiční koncert pro ZUŠ Jeseník
DESCRIPTION:Benefiční koncert pro ZUŠ JeseníkCelý výtěžek poputuje na pomoc vytopené ZUŠ JeseníkÚčinkují:Pěvecký sbor ZUŠ ZnojmoJazzy TalkingBig Bang ZUŠ ZnojmoSbor DRKRPOLOnkels unpluggedCimbálová muzika A. Stehlíka
LOCATION:Znojmo
END:VEVENT
END:VCALENDAR