BEGIN:VCALENDAR
VERSION:2.0
CALSCALE:GREGORIAN
PRODID:-//MyApp//Calendar 1.0//EN
BEGIN:VEVENT
METHOD:PUBLISH
UID:47126@regionalniportaly.cz
DTSTAMP:20260422T221700Z
DTSTART;VALUE=DATE:20250227
DTEND;VALUE=DATE:20250228
SUMMARY:Ivan Mládek & Banjo Band (CZ)
DESCRIPTION:Česká hudební skupina vedená Ivanem Mládkem\, který&nbsp\;ji založil koncem 60. let 20. století. Kapela byla vždy rozsáhlá a&nbsp\;bohatě instrumentovaná\, s&nbsp\;různými strunnými\, dechovými a&nbsp\;bicími nástroji\, i&nbsp\;exotickými. Žánrově se&nbsp\;pohybuje na&nbsp\;pomezí country\, trampské\, jazzu (resp. dixielandu)\, dechovky a&nbsp\;pseudolidové hudby. Hraje vlastní písně\, většinou z&nbsp\;Mládkovy dílny.Mezi největší hity Banjo Bandu se&nbsp\;zařadily písně Jožin z&nbsp\;bažin (oblíbena též v&nbsp\;Polsku)\, Prachovské skály\, Jez\, Zkratky\, Znojmo\, vidím tě dvojmo\, Hlásná Třebáň je krásná\, Dáša Nováková nebo My máme chaloupku v&nbsp\;Blatné.
LOCATION:Znojmo
END:VEVENT
END:VCALENDAR