BEGIN:VCALENDAR
VERSION:2.0
CALSCALE:GREGORIAN
PRODID:-//MyApp//Calendar 1.0//EN
BEGIN:VEVENT
METHOD:PUBLISH
UID:47630@regionalniportaly.cz
DTSTAMP:20260422T210626Z
DTSTART;VALUE=DATE:20241102
DTEND;VALUE=DATE:20241103
SUMMARY:Workshop / Dekorace porcelánu
DESCRIPTION:Seznámíte se s technikami dekorace porcelánu\, naučíte se\, jak se s porcelánem pracuje\, jaké jsou jeho možnosti a úskalí. Nadekorujete si svou vlastní porcelánovou sadu. Cena kurzu zahrnuje přežahnuté porcelánové kusy k dekoraci a zaslání hotových výrobků. Lektorka Vendula Janíková vyučuje ateliér Šperku a objektu na Katedře výtvarné výchovy při Univerzitě Palackého v Olomouci. \n \nVhodné od 13 let. \n \nVstupné: 1 250 Kč (pouze předprodej\, kapacita max. 8 osob). Předprodej končí 48 hodin předem. Aby akce proběhla\, potřebujeme alespoň 5 zájemců.\nČas a místo02. 11. 2024 9:00 – 13:00\nKollárova 27\, 669 02 Znojmo
LOCATION:Znojmo
END:VEVENT
END:VCALENDAR