BEGIN:VCALENDAR
VERSION:2.0
CALSCALE:GREGORIAN
PRODID:-//MyApp//Calendar 1.0//EN
BEGIN:VEVENT
METHOD:PUBLISH
UID:47631@regionalniportaly.cz
DTSTAMP:20260423T010808Z
DTSTART;VALUE=DATE:20241109
DTEND;VALUE=DATE:20241110
SUMMARY:Knihomolský bazar vol. 2
DESCRIPTION:Objevte mezi vyřazenými knihami poklad! Knížky můžete zakoupit za symbolickou cenu 10 Kč za kus. Kavárna nabídne knihomolské menu. Bazárek vznikl ve spolupráci s Městskou knihovnou Znojmo. Vstup volný.\n \nPo bazaru následuje Koncert a Literatura pod čarou / Tvorba inspirovaná undergroundem.\n \nČas a místo09. 11. 2024 10:00 – 15:00\nKollárova 27\, 669 02 Znojmo
LOCATION:Znojmo
END:VEVENT
END:VCALENDAR