BEGIN:VCALENDAR
VERSION:2.0
CALSCALE:GREGORIAN
PRODID:-//MyApp//Calendar 1.0//EN
BEGIN:VEVENT
METHOD:PUBLISH
UID:47632@regionalniportaly.cz
DTSTAMP:20260422T210445Z
DTSTART;VALUE=DATE:20241109
DTEND;VALUE=DATE:20241110
SUMMARY:Koncert Vítrholce a básně pod čarou / Tvorba inspirovaná undergroundem
DESCRIPTION:Autorské čtení poezie básníků a básnířek z celé republiky. Vystoupí: Dalibor Maňas\, Karel Škrabal\, Krista Kašpar\, Filip Klega\, Adam Černý\, Lubomír Dítě a další. Vyvrcholením bude koncert uskupení Vítrholc. Vynálezci Vítrholce vypráví do hudby příběhy – vulgárně\, dojatě\, obyčejně\, sklesle i smutně. \n \nAll we need is love\, all we need is underground. \n \nVstupné: 150 Kč předprodej\, 250 Kč na místě. Předprodej končí 48 hodin předem. Aby akce proběhla\, potřebujeme alespoň 5 zájemců. Vstupenky budou k dispozici i na místě.\nČas a místo09. 11. 2024 17:00\nKollárova 27\, 669 02 Znojmo
LOCATION:Znojmo
END:VEVENT
END:VCALENDAR