BEGIN:VCALENDAR
VERSION:2.0
CALSCALE:GREGORIAN
PRODID:-//MyApp//Calendar 1.0//EN
BEGIN:VEVENT
METHOD:PUBLISH
UID:47635@regionalniportaly.cz
DTSTAMP:20260422T205206Z
DTSTART;VALUE=DATE:20241116
DTEND;VALUE=DATE:20241117
SUMMARY:Workshop / Výroba barev dle tradičních receptur
DESCRIPTION:Naučíte se vyrábět barvy z materiálů dovezených z celého světa. Budete pracovat s indigem z Indie\, dračí krví z Madagaskaru nebo lapisem lazuli z Afghánistánu. Navíc si odnesete sadu 15 barev\, které si sami vytvoříte. Lektor Michal Šmíd je zakladatel projektu PIGMI\, který se vrací k ruční výrobě barev z přírodních materiálů s ohledem na jejich kvalitu i udržitelnost životního prostředí. Workshop je určen dospělým nebo dětem od 8 let v doprovodu rodiče (platí pouze jedno vstupné). \n \nVstupné: 3 499 Kč (pouze předprodej\, kapacita max. 8 osob). Předprodej končí 48 hodin předem.  Aby akce proběhla\, potřebujeme alespoň 5 zájemců.\n16. 11. 2024 9:00 – 13:00\nKollárova 27\, 669 02 Znojmo
LOCATION:Znojmo
END:VEVENT
END:VCALENDAR