BEGIN:VCALENDAR
VERSION:2.0
CALSCALE:GREGORIAN
PRODID:-//MyApp//Calendar 1.0//EN
BEGIN:VEVENT
METHOD:PUBLISH
UID:47636@regionalniportaly.cz
DTSTAMP:20260422T220759Z
DTSTART;VALUE=DATE:20241116
DTEND;VALUE=DATE:20241117
SUMMARY:Divadlo dětem: Legenda o sv. Martinovi / Pruhované panenky
DESCRIPTION:Za podzimních dnů\, kdy šeří se a fouká\, poslyšte pradávný příběh o sv. Martinovi\, který se stal symbolem soucitu\, štědrosti\, dobroty a lásky. Zažijte stínové loutko-herecké divadlo protkané písněmi a živou hudbou. \n \nDélka představení je 50 minut. Vhodné pro děti od 3 let.  \n \nVstupné: 100 Kč předprodej\; 140 Kč na místě. Předprodej končí 48 hodin předem. Aby akce proběhla\, potřebujeme alespoň 5 zájemců. Vstupenky budou k dispozici i na místě.\nČas a místo16. 11. 2024 16:00\nKollárova 27\, 669 02 Znojmo
LOCATION:Znojmo
END:VEVENT
END:VCALENDAR