BEGIN:VCALENDAR
VERSION:2.0
CALSCALE:GREGORIAN
PRODID:-//MyApp//Calendar 1.0//EN
BEGIN:VEVENT
METHOD:PUBLISH
UID:47637@regionalniportaly.cz
DTSTAMP:20260422T222050Z
DTSTART;VALUE=DATE:20241120
DTEND;VALUE=DATE:20241121
SUMMARY:Komentovaná prohlídka výstavy Jany Vojnarové a Josefa Bolfa
DESCRIPTION:Kurátorka Andrea Krejčí vás provede aktuální výstavou. Výtvarná díla zasadí do širšího kontextu uměleckého světa a poodhalí jejich význam. Prozradí vám také něco o autorovi a jeho další tvorbě. \n \nVstupné 27 Kč! Předprodej končí 48 hodin předem. Aby akce proběhla\, potřebujeme alespoň 5 zájemců. Vstupenky budou k dispozici i na místě.\nČas a místo20. 11. 2024 18:00 – 19:00\nKollárova 27\, 669 02 Znojmo
LOCATION:Znojmo
END:VEVENT
END:VCALENDAR