BEGIN:VCALENDAR
VERSION:2.0
CALSCALE:GREGORIAN
PRODID:-//MyApp//Calendar 1.0//EN
BEGIN:VEVENT
METHOD:PUBLISH
UID:47638@regionalniportaly.cz
DTSTAMP:20260422T205146Z
DTSTART;VALUE=DATE:20241123
DTEND;VALUE=DATE:20241124
SUMMARY:Výtvarný workshop dětem s komentovanou prohlídkou výstavy
DESCRIPTION:Tematicky zaměřený výtvarný workshop s komentovanou prohlídkou výstavy pro děti školního věku. \n \nMaximální kapacita 10 účastníků. Doba trvání workshopu 90 minut. \n \nVstupné: 150 Kč\; pouze předprodej. Předprodej končí 48 hodin předem. Aby akce proběhla\, potřebujeme alespoň 5 zájemců.\nČas a místo\n23. 11. 2024 10:00 – 11:30\nKollárova 27\, 669 02 Znojmo
LOCATION:Znojmo
END:VEVENT
END:VCALENDAR