BEGIN:VCALENDAR
VERSION:2.0
CALSCALE:GREGORIAN
PRODID:-//MyApp//Calendar 1.0//EN
BEGIN:VEVENT
METHOD:PUBLISH
UID:48114@regionalniportaly.cz
DTSTAMP:20260422T180712Z
DTSTART;VALUE=DATE:20250117
DTEND;VALUE=DATE:20250118
SUMMARY:Jazzový víkend v klubech: Latino swing dance party
DESCRIPTION:DJ MACKIE MESSER zazářil jako kapitán tanečních plaveb na divadelní lodi bratří Formanů nebo duše swingových tančíren ve Werichově vile na pražské Kampě. Na Radiu 1 vysílá world music session „Všechny hudby světa“. Pro lednový taneční večer ve Znojmě připravuje pestrou swing &amp\; bassovou skákačku kořeněnou latino funky karnevalem.Jeho vystoupení doprovodí skvěle jamující saxofonista PETR JANDA.Účinkují:DJ MACKIE MESSER&nbsp\;– DJ &amp\; bassPetr Janda&nbsp\;– saxofon
LOCATION:Znojmo
END:VEVENT
END:VCALENDAR