BEGIN:VCALENDAR
VERSION:2.0
CALSCALE:GREGORIAN
PRODID:-//MyApp//Calendar 1.0//EN
BEGIN:VEVENT
METHOD:PUBLISH
UID:48117@regionalniportaly.cz
DTSTAMP:20260422T221217Z
DTSTART;VALUE=DATE:20250118
DTEND;VALUE=DATE:20250119
SUMMARY:Jazzový víkend v klubech: Jazz do kapsy (CZ)
DESCRIPTION:Výborná znojemská akustická formace sestávající ze&nbsp\;zpěvačky doprovázené kytarou a&nbsp\;tenor saxofonem. Hrají převážně swingovou populární hudbu z&nbsp\;první poloviny 20. století\, ale také české autory\, kterými jsou např. Kamil Běhounek nebo Josef Kainar.Účinkující:Jindřiška Leischner Fialová&nbsp\;( zpěv )Ludvík Leischner ml.&nbsp\;( saxofon )Ludvík Leischner st.&nbsp\;( kytara )&nbsp\;
LOCATION:Znojmo
END:VEVENT
END:VCALENDAR