BEGIN:VCALENDAR
VERSION:2.0
CALSCALE:GREGORIAN
PRODID:-//MyApp//Calendar 1.0//EN
BEGIN:VEVENT
METHOD:PUBLISH
UID:48118@regionalniportaly.cz
DTSTAMP:20260422T205904Z
DTSTART;VALUE=DATE:20250118
DTEND;VALUE=DATE:20250119
SUMMARY:Jazzový víkend v klubech: Tonda Vidlák Quartet (CZ)
DESCRIPTION:Jazzová kapela\, která hraje na&nbsp\;Jihlavsku od roku 2020. V&nbsp\;současné době preferuje autorské skladby svého kapelníka Antonína Vidláka. Kromě nich interpretuje také soudobé kompozice jazzových muzikantů\, jako je např. Chick Corea\, Chuck Magione\, Clifford Brown\, Zbigniew Namyslovski\, Paul Desmond a&nbsp\;skupin Spyro Gyra nebo Apple Tea.Kapela staví na&nbsp\;bohatosti harmonie\, na&nbsp\;téměř akustickém zvuku\, i&nbsp\;když některé skladby interpretuje se&nbsp\;zvukem elektrického piana. Kapelník Antonín Vidlák střídá altsaxofon a&nbsp\;sopránsaxofon. Jeho autorské skladby vycházejí z&nbsp\;poznání standardů a&nbsp\;tradice\, ale řadí se&nbsp\;k modernímu jazzu\, jazzrocku\, nebo popjazzu. Autor v&nbsp\;nich zachycuje svoje prožitky a&nbsp\;životní pocity.&nbsp\;Účinkující:Antonín Vidlák&nbsp\;– saxofonyVáclav Sobotka&nbsp\;– pianoMartin Chaloupka&nbsp\;– baskytaraMichal Karafiát&nbsp\;– bicí&nbsp\;
LOCATION:Znojmo
END:VEVENT
END:VCALENDAR