BEGIN:VCALENDAR
VERSION:2.0
CALSCALE:GREGORIAN
PRODID:-//MyApp//Calendar 1.0//EN
BEGIN:VEVENT
METHOD:PUBLISH
UID:48119@regionalniportaly.cz
DTSTAMP:20260422T234018Z
DTSTART;VALUE=DATE:20250125
DTEND;VALUE=DATE:20250126
SUMMARY:Večer swingového tance: JOKER´S Band (CZ)
DESCRIPTION:Přijít může opravdu každý! Pobavíte se&nbsp\;i bez toho\, jestli jste v&nbsp\;páru nebo ne. Můžete hudbu pouze poslouchat\, anebo se&nbsp\;aktivně zapojit na&nbsp\;tanečním parketu. A&nbsp\;opravdu nezáleží na&nbsp\;tom jestli umíte na&nbsp\;swingovou hudbu tančit nebo ne\, určitě se&nbsp\;něco nového naučíte.&nbsp\;Účinkující:&nbsp\;JOKER’S BANDRudolf Musil&nbsp\;– klarinet\, saxofon\,Ladislav Koucký&nbsp\;– trumpetista\,Martin Kuzma&nbsp\;– bicí\,Luděk Havel&nbsp\;– pianista
LOCATION:Znojmo
END:VEVENT
END:VCALENDAR