BEGIN:VCALENDAR
VERSION:2.0
CALSCALE:GREGORIAN
PRODID:-//MyApp//Calendar 1.0//EN
BEGIN:VEVENT
METHOD:PUBLISH
UID:48120@regionalniportaly.cz
DTSTAMP:20260422T220917Z
DTSTART;VALUE=DATE:20250304
DTEND;VALUE=DATE:20250305
SUMMARY:Jam session
DESCRIPTION:Jam session v Centru Louka.Jazzové improvizace učitelů a frekventantů jazzového kurzu.&nbsp\;
LOCATION:Znojmo
END:VEVENT
END:VCALENDAR