BEGIN:VCALENDAR
VERSION:2.0
CALSCALE:GREGORIAN
PRODID:-//MyApp//Calendar 1.0//EN
BEGIN:VEVENT
METHOD:PUBLISH
UID:48121@regionalniportaly.cz
DTSTAMP:20260423T010641Z
DTSTART;VALUE=DATE:20250321
DTEND;VALUE=DATE:20250322
SUMMARY:Viklický & Hrubý (CZ) - Between us
DESCRIPTION:V srpnu 2020 se&nbsp\;v Hudebním studiu České televize na&nbsp\;Kavčích horách sešli EMIL VIKLICKÝ a&nbsp\;PAVEL HRUBÝ\, aby&nbsp\;spolu natočili album „Between Us“. To&nbsp\;pak vyšlo 30. prosince 2020 na&nbsp\;značce Amplión Records zvukového mága Alexeje Charváta.Pečlivě vypravený titul zdobí cover painting výtvarníka světového renomé Jiřího Anderleho. Novinka Between Us spojuje neobvykle klavír s&nbsp\;basklarinetem a&nbsp\;je dokladem mimořádného souznění dvou odlišných jazzových generací. Album obsahuje 12 skladeb\, z&nbsp\;toho 11 originálních kompozic obou protagonistů.&nbsp\;Účinkující:&nbsp\;Emil Viklický&nbsp\;– pianoPavel Hrubý&nbsp\;– basklarinet
LOCATION:Znojmo
END:VEVENT
END:VCALENDAR