BEGIN:VCALENDAR
VERSION:2.0
CALSCALE:GREGORIAN
PRODID:-//MyApp//Calendar 1.0//EN
BEGIN:VEVENT
METHOD:PUBLISH
UID:48123@regionalniportaly.cz
DTSTAMP:20260422T170223Z
DTSTART;VALUE=DATE:20250308
DTEND;VALUE=DATE:20250309
SUMMARY:Peter Lipa a host: Lash & Grey (SK)
DESCRIPTION:Nejvýznamnější osobnost slovenské jazzové scény&nbsp\;Peter Lipa&nbsp\;se&nbsp\;tentokrát spojí s&nbsp\;Lash &amp\; Grey&nbsp\;(pravými jmény Kristína Mihaľová a&nbsp\;Jakub Šedivý)\, což je slovenské hudební jazz-soulové duo. Hudba tohoto bratislavského uskupení vytváří intimní a&nbsp\;hřejivý vesmír připomínající Norah Jones\, Ettu James nebo Billie Holiday.S&nbsp\;jazzovými a&nbsp\;soulovými vlivy\, ale nadčasovým šarmem. Za&nbsp\;album Sleepin‘ With The Lights On (2020) získali ocenění nejlepší debut Radio_Head Awards i&nbsp\;nejlepší slovenské album na&nbsp\;Cenách Anděl.&nbsp\;Účinkující:Peter Lipa – zpěvPeter Lipa ml. - klávesyRadovan Tariška – alt saxofonMichal Šimko – basaMichal Fedor - bubnyhosté:Kristina Mihaľová – zpěvJakub Šedivý - kytara
LOCATION:Znojmo
END:VEVENT
END:VCALENDAR