BEGIN:VCALENDAR
VERSION:2.0
CALSCALE:GREGORIAN
PRODID:-//MyApp//Calendar 1.0//EN
BEGIN:VEVENT
METHOD:PUBLISH
UID:48284@regionalniportaly.cz
DTSTAMP:20260422T220643Z
DTSTART;VALUE=DATE:20250201
DTEND;VALUE=DATE:20250202
SUMMARY:Žlutá žába pluje do Mongolska
DESCRIPTION:Žlutá žába pluje do Mongolska – nejnovější výprava žlutého cirkusu! Neuvěřitelná cesta autem\, jaký svět neviděl\, do míst\, kam se málokdo podívá. Autem\, které špatně jezdí\, zato špatně plave. Žlutý cirkus dostal další dobrý nápad! Mělo to být jednoduché\, rychlé a levné a dopadlo to jako vždycky! Cesta\, kde nic nejde podle plánu\, a kde je potřeba se naučit všechno znovu od začátku\, cesta přes spoustu rovnoběžek a poledníků\, delší\, zato horší trasou z Česka až do Mongolska. Přes absurdní totality\, šílené diktátory\, žhavé pouště\, vysoké hory až do nekonečných plání\, kde se malé žluté auto snadno ztratí… ale neztratili jsme se a stálo to za to!
LOCATION:Znojmo
END:VEVENT
END:VCALENDAR