BEGIN:VCALENDAR
VERSION:2.0
CALSCALE:GREGORIAN
PRODID:-//MyApp//Calendar 1.0//EN
BEGIN:VEVENT
METHOD:PUBLISH
UID:48747@regionalniportaly.cz
DTSTAMP:20260422T205934Z
DTSTART;VALUE=DATE:20241206
DTEND;VALUE=DATE:20241207
SUMMARY:Tři sestry & Alkehol / Sudová přitažlivost tour 2024
DESCRIPTION:oSudová přitažlivost tomu chtěla\, aby soubory Tři sestry a Alkehol opět spojily síly a vyrazily na společné tour!\nVstupenky v prodeji 👉 https://trisestry.cz/e-shop#/8\nVstupenky i v síti Ticketstream: https://bit.ly/4dLO51u
LOCATION:Práče
END:VEVENT
END:VCALENDAR