BEGIN:VCALENDAR
VERSION:2.0
CALSCALE:GREGORIAN
PRODID:-//MyApp//Calendar 1.0//EN
BEGIN:VEVENT
METHOD:PUBLISH
UID:48750@regionalniportaly.cz
DTSTAMP:20260422T205419Z
DTSTART;VALUE=DATE:20250322
DTEND;VALUE=DATE:20250323
SUMMARY:Horkýže Slíže & Iné Kafe Tour Route 63
DESCRIPTION:Dvě slovenské kapely\, které mají dlouhá léta nesčetně příznivců i u nás\, vyrazí na společné turné. A vzhledem k tomu\, že se na hudební scéně pohybují v součtu již 63 let\, zvolili si Horkýže Slíže a Iné Kafe pro svoji jarní bohatýrskou cestu za fanoušky Čech\, Moravy a Slezska příznačný název Route 63. Jednou ze zastávek na jejich pomyslné rockové highway bude 22. března i Práče u Znojma.\n \nVstupenky zakoupíte v síti Nejticket:https://route63.nejticket.cz/
LOCATION:Práče
END:VEVENT
END:VCALENDAR