BEGIN:VCALENDAR
VERSION:2.0
CALSCALE:GREGORIAN
PRODID:-//MyApp//Calendar 1.0//EN
BEGIN:VEVENT
METHOD:PUBLISH
UID:49037@regionalniportaly.cz
DTSTAMP:20260422T180758Z
DTSTART;VALUE=DATE:20241214
DTEND;VALUE=DATE:20241215
SUMMARY:Mistrovství ČR seniorů v 10T\, seniorská taneční liga
DESCRIPTION:Největší taneční událost roku ve Znojmě!Taneční skupina Single&nbsp\;Znojmo ve spolupráci s Infinity Dance Team Brno&nbsp\;pořádá první Mistrovství České republiky seniorů v deseti tancích.Těšte se na exkluzivní taneční výkony\, současné finalisty mistrovství světa a vicemistry Evropy&nbsp\;&nbsp\;v show dance a mnoho dalších skvostných tanečních show.Co vás čeká:Mistrovství republiky v deseti tancíchJedinečná taneční ligaExkluzivní galavečer plný nezapomenutelné zábavyZnámé osobnosti tanečního světaUnikátní taneční showZajistěte si své místo na této grandiózní akci\, která se zapíše do historie znojemského tance. Přijďte podpořit naše mistry v tanci a užít&nbsp\;si mimořádnou show!
LOCATION:Znojmo
END:VEVENT
END:VCALENDAR