BEGIN:VCALENDAR
VERSION:2.0
CALSCALE:GREGORIAN
PRODID:-//MyApp//Calendar 1.0//EN
BEGIN:VEVENT
METHOD:PUBLISH
UID:49039@regionalniportaly.cz
DTSTAMP:20260423T010955Z
DTSTART;VALUE=DATE:20250207
DTEND;VALUE=DATE:20250208
SUMMARY:Poutníci
DESCRIPTION:V roce 2025 slaví Poutníci 55 let od svého vzniku.Zazní jak nejslavnější poutnické písně / Panenka\, Pojďme senapít či Hotel Hillary/ tak i novinky z CD Stíny na střechách.
LOCATION:Znojmo
END:VEVENT
END:VCALENDAR