BEGIN:VCALENDAR
VERSION:2.0
CALSCALE:GREGORIAN
PRODID:-//MyApp//Calendar 1.0//EN
BEGIN:VEVENT
METHOD:PUBLISH
UID:49120@regionalniportaly.cz
DTSTAMP:20260422T180818Z
DTSTART;VALUE=DATE:20250713
DTEND;VALUE=DATE:20250714
SUMMARY:G.F.HÄNDEL: Giulio Cesare in Egitto - derniéra
DESCRIPTION:Hudební festival Znojmo k 21. výročí připravuje opět ve&nbsp\;vlastní produkci výpravnou barokní operu o&nbsp\;třech dějstvích z&nbsp\;roku 1724 od&nbsp\;G.F.HÄNDEL: Giulio Cesare in Egitto (Julius Caesar v Egyptě).Opera v&nbsp\;autentické hudební interpretaci na&nbsp\;historické nástroje. To&nbsp\;vše umocněné mimořádným mezinárodním sólistickým obsazením! Příběh\, který&nbsp\;inspiroval před&nbsp\;Händelem a&nbsp\;i po&nbsp\;něm řadu tvůrců k&nbsp\;mnoha uměleckým zpracováním v&nbsp\;různých uměleckých formách. Händelova operní verze patří k&nbsp\;těm mimořádně zdařilým\, stále živým\, nadále inspirujícím tvůrce i&nbsp\;interprety a&nbsp\;okouzlujícím diváky a&nbsp\;posluchače do&nbsp\;dnešních dnů.Julius Caesar v&nbsp\;Egyptě\, italsky Giulio Cesare in Egitto\, anglicky Julius Caesar in Egypt (HWV 17) je opera seria\, kterou složil Georg Friedrich Händel pro anglickou Královskou hudební akademii v&nbsp\;roce 1724. Poprvé byla uvedena 20. února 1724 v&nbsp\;King’s Theatre na&nbsp\;londýnském Haymarketu. Opera měla úspěch hned při&nbsp\;premiéře\, Händel ji často obnovoval ve&nbsp\;svých dalších operních sezónách a&nbsp\;dnes patří k&nbsp\;nejčastěji uváděným barokním operám. Děj volně vychází z&nbsp\;historických událostí během římské občanské války v&nbsp\;letech 49–45 př. n. l. V&nbsp\;barvitém příběhu odehrávajícím se&nbsp\;v Egyptě procházíme řadou exotických prostředí. Jsme svědky nejen politických intrik a&nbsp\;boje o&nbsp\;moc\, ale rovněž silného milostného příběhu mezi římským císařem Juliem Caesarem a&nbsp\;egyptskou královnou Kleopatrou.Libreto podle staršího libreta Giacoma Francesca Bussaniho (1640–1680)\, které bylo zhudebněno v&nbsp\;roce 1676 Antoniem Sartoriem (1630–1680)\, napsal Nicola Francesco Haym (1678–1729).Obsazení:Dirigent:&nbsp\;Roman VálekRežie:&nbsp\;Jiří NekvasilV hlavních rolích:Andreas Scholl&nbsp\;(Caesar) – kontratenorValer Sabadus&nbsp\;(Sesto) – kontratenorFranko Klisović&nbsp\;(Tolomeo) – alto castratoMonika Jägerová&nbsp\;(Cleopatra) – sopranoDoubravka Novotná&nbsp\;(Cornelia) – contraaltoAdam Plachetka&nbsp\;(Achilla) – bas
LOCATION:Znojmo
END:VEVENT
END:VCALENDAR