BEGIN:VCALENDAR
VERSION:2.0
CALSCALE:GREGORIAN
PRODID:-//MyApp//Calendar 1.0//EN
BEGIN:VEVENT
METHOD:PUBLISH
UID:49214@regionalniportaly.cz
DTSTAMP:20260422T233947Z
DTSTART;VALUE=DATE:20250221
DTEND;VALUE=DATE:20250222
SUMMARY:Doga + Morčata na útěku
DESCRIPTION:HAF TOUR 2025 DOGA + MORČATA NA ÚTĚKU&nbsp\;Hned na start unikátního turné 21.2. bude Doga s Morčaty v KD Práče u Znojma!&nbsp\;&nbsp\;
LOCATION:Práče
END:VEVENT
END:VCALENDAR