BEGIN:VCALENDAR
VERSION:2.0
CALSCALE:GREGORIAN
PRODID:-//MyApp//Calendar 1.0//EN
BEGIN:VEVENT
METHOD:PUBLISH
UID:49275@regionalniportaly.cz
DTSTAMP:20260422T154239Z
DTSTART;VALUE=DATE:20250714
DTEND;VALUE=DATE:20250715
SUMMARY:Koncert na dřeň: Lokomotiva
DESCRIPTION:Charitativní koncert na&nbsp\;podporu Nadace pro transplantaci kostní dřeně.&nbsp\;Letos je to&nbsp\;přesně 30 let\, co kapela Lokomotiva zahrála poprvé ve&nbsp\;složení Petr Vondráček\, Vítek Fiala\, Karel Schurrer a&nbsp\;Norbi Kovács na&nbsp\;Chodovské tvrzi v&nbsp\;Praze pro spřátelenou americkou základní školu. Posluchači byli spokojeni. Jejich národní poklad zvaný Rock and Roll\, má své stoupence a&nbsp\;misionáře i&nbsp\;v postkomunistické východní Evropě. Lokomotiva má na&nbsp\;svém kontě čtyři alba vlastního původního repertoáru: Strojek hodinový (1999)\, Rokenrolové harašení (2001)\, Tancuj trochu víc (2004) a&nbsp\;Čtyři z&nbsp\;vlaku a&nbsp\;Jazz (2007) čítají takřka 80 vlastních písní.&nbsp\;Z každé prodané vstupenky bude převedeno 100\,- Kč na "Na dřeň".&nbsp\;Účinkující:Petr Vondráček&nbsp\;– klávesy&nbsp\;Norbi Kovács&nbsp\;– kytara&nbsp\;Vítek Fiala&nbsp\;– baskytara&nbsp\;Karel Schürrer&nbsp\;– bicí
LOCATION:Dobšice
END:VEVENT
END:VCALENDAR