BEGIN:VCALENDAR
VERSION:2.0
CALSCALE:GREGORIAN
PRODID:-//MyApp//Calendar 1.0//EN
BEGIN:VEVENT
METHOD:PUBLISH
UID:49302@regionalniportaly.cz
DTSTAMP:20260422T170214Z
DTSTART;VALUE=DATE:20250715
DTEND;VALUE=DATE:20250716
SUMMARY:Filozofický koncert: IVO KAHÁNEK
DESCRIPTION:Klavírní recitál&nbsp\;Ivo&nbsp\;Kahánka&nbsp\;spojený se&nbsp\;zamyšlením&nbsp\;Marka Orko Váchy. Ivo Kahánek připravuje program na&nbsp\;míru odpovídající dramaturgii letošního festivalu. Marek Orko Vácha doprovodí koncert svým slovem na&nbsp\;téma všeobjímající lásky.Ivo Kahánek je absolventem Janáčkovy konzervatoře v&nbsp\;Ostravě a&nbsp\;Akademie múzických umění v&nbsp\;Praze. Má za&nbsp\;sebou také studijní stáž na&nbsp\;londýnské Guildhall School of Music and Drama a&nbsp\;mistrovské kurzy pod&nbsp\;vedením Karl-Heinze Kämmerlinga\, Christiana Zachariase\, Alicie de Larrocha\, Imogen Cooper\, Petera Frankla a&nbsp\;dalších osobností.&nbsp\;Účinkující:Ivo Kahánek&nbsp\;– klavírMarek Orko Vácha&nbsp\;– přednáška
LOCATION:Znojmo
END:VEVENT
END:VCALENDAR