BEGIN:VCALENDAR
VERSION:2.0
CALSCALE:GREGORIAN
PRODID:-//MyApp//Calendar 1.0//EN
BEGIN:VEVENT
METHOD:PUBLISH
UID:49306@regionalniportaly.cz
DTSTAMP:20260422T154300Z
DTSTART;VALUE=DATE:20250831
DTEND;VALUE=DATE:20250901
SUMMARY:Koncert uherčického zámku: KMENY
DESCRIPTION:Magické spojení hudby a&nbsp\;akrobacie v&nbsp\;podání mistrů improvizace. A&nbsp\;právě improvizace dělá z&nbsp\;každého uvedení KMENŮ jedinečnou show\, která se&nbsp\;nikdy nezopakuje. Improvizuje jak ústřední trojice muzikantů\, improvizují tanečníci\, akrobaté i&nbsp\;zvukaři a&nbsp\;osvětlovači.KMENY představují nejen jedinečný hudebně-divadelní zážitek\, ale také setkání se&nbsp\;špičkami české taneční urban scény. Tanečníci pomocí různých tanečních stylů doplňují hudební improvizace a&nbsp\;vytvářejí tak magické spojení\, které diváky naplní nezapomenutelným zážitkem. Akrobaté přinášejí do&nbsp\;show rozmanité cirkusové disciplíny. Předvedou čísla využívající závěsnou akrobacii nebo také cyr wheel.&nbsp\;Účinkující:Losers Cirque CompanyRežie:&nbsp\;Petr HorníčekChoreografie:&nbsp\;Tomáš PražákHudba:&nbsp\;Dan Bárta\, Ondřej Havlík – Endru\, Jen HovorkaKostýmy:&nbsp\;Lucie ČervíkováLight design:&nbsp\;Michael BláhaZvuk:&nbsp\;Mikoláš MulerProdukce:&nbsp\;United Arts&nbsp\;Odjezd autobusu od městského divadla v&nbsp\;18:30 hodin. Návrat po&nbsp\;koncertě tamtéž. Jízdenku na autobus je nutné zakoupit v předprodeji společně se vstupenkou na koncert.Sezení:zóna I. - židlezóna II. - židlezóna III. - lavicenemístenkové sezení - na vlastních dekách v mírném svahu&nbsp\;
LOCATION:Uherčice
END:VEVENT
END:VCALENDAR