BEGIN:VCALENDAR
VERSION:2.0
CALSCALE:GREGORIAN
PRODID:-//MyApp//Calendar 1.0//EN
BEGIN:VEVENT
METHOD:PUBLISH
UID:49312@regionalniportaly.cz
DTSTAMP:20260422T155110Z
DTSTART;VALUE=DATE:20250725
DTEND;VALUE=DATE:20250726
SUMMARY:Koncert při svíčkách I: CANTICVM SALOMONIS
DESCRIPTION:Polyfonní i&nbsp\;virtuózní diminuce na&nbsp\;skladby lyriky inspirované Písní písní\, v&nbsp\;rozličných renesančních instrumentálně-vokálních barvách\, prokládané a&nbsp\;komentované vyprávěčem.&nbsp\;Účinkují:Lukáš Vendl&nbsp\;– Cembalo cromatico / Varhanní positivJakub Kydlíček&nbsp\;– Renesanční zobcová flétnaVojtěch Jakl&nbsp\;– Renesanční housleJan Krejča&nbsp\;– Renesanční loutna / theorbaMelusie Srovnal&nbsp\;– Viola da gambaMichal Raitmajer&nbsp\;– Viola da gambaCANTVSJustin Svoboda&nbsp\;– vypravěč
LOCATION:Znojmo
END:VEVENT
END:VCALENDAR