BEGIN:VCALENDAR
VERSION:2.0
CALSCALE:GREGORIAN
PRODID:-//MyApp//Calendar 1.0//EN
BEGIN:VEVENT
METHOD:PUBLISH
UID:49347@regionalniportaly.cz
DTSTAMP:20260422T205743Z
DTSTART;VALUE=DATE:20250220
DTEND;VALUE=DATE:20250221
SUMMARY:Alena Antalová & Alex Anders - Šansony
DESCRIPTION:Herečka a zpěvačka Alena Antalová a skladatel\, textař\, zpěvák a pianista Alex Anders vytvořili novou hudební šansonovou dvojici.Alex Anders píše\, skládá a zpívá svoje úžasné šansony\, zároveň se doprovází na klavír. Dlouho hledal interpretku\, která by se k němu připojila\, až se našli s Alenou Antalovou\, ženou\, která zpívá duší i srdcem\, což je u šansonu podstatné a od té chvíle vystupují společně.Alena a Alex jsou zcela nová dvojice na hudební scéně\, ale zejména Alena Antalová není osoba neznámá\, ba právě naopak\, jedná se o v Brně velmi oblíbenou herečku i zpěvačku.&nbsp\;V oblasti šansonu je po odchodu paní Hany Hegerové a pana Petra Hapky obrovská díra.Přitom o šansony je velký zájem\, zejména mezi střední a starší generací. Lidi písně s příběhem o životě prostě baví.O Alexovi tvrdí\, že je vlastně takový Hapka-Horáček v jednom\, stejně tak je ojedinělý i jeho zpěv a klavír. Je to muž s duší umělce\, který hrál jako pianista 30 let v zahraničí\, kde hrál i takovým osobnostem jako anglická královna Alžběta\, Michail Gorbačov\, Dustin Hoffman atd.
LOCATION:Znojmo
END:VEVENT
END:VCALENDAR