BEGIN:VCALENDAR
VERSION:2.0
CALSCALE:GREGORIAN
PRODID:-//MyApp//Calendar 1.0//EN
BEGIN:VEVENT
METHOD:PUBLISH
UID:49348@regionalniportaly.cz
DTSTAMP:20260422T193318Z
DTSTART;VALUE=DATE:20250310
DTEND;VALUE=DATE:20250311
SUMMARY:Pavel Zedníček
DESCRIPTION:Beseda s populárním hercem\, bavičem a moderátorem Pavlem Zedníčkem.
LOCATION:Znojmo
END:VEVENT
END:VCALENDAR