BEGIN:VCALENDAR
VERSION:2.0
CALSCALE:GREGORIAN
PRODID:-//MyApp//Calendar 1.0//EN
BEGIN:VEVENT
METHOD:PUBLISH
UID:49458@regionalniportaly.cz
DTSTAMP:20260422T170233Z
DTSTART;VALUE=DATE:20250522
DTEND;VALUE=DATE:20250523
SUMMARY:Pjér la Šé'z & Eniesa: Člověk a živly
DESCRIPTION:Díky živlům jsme schopni existovat ve fyzických tělech. Avšak v těle živého tvora se živly chovají jinak než v těle bez života. V živém těle kupříkladu těžké prvky stoupají vzhůru\, zatímco lehké nikam nestoupají. To se samozřejmě změní\, když duše tělo opustí a živly se zase chovají v souladu s vlastní přirozeností. Zdá se tedy\, že existují jakési souvislosti duše a živlů. Voda například souvisí s cítěním\, země s vnímáním\, vzduch s myšlením a oheň s intuicí. A právě těmto souvislostem budeme teď věnovat systematičtější pozornost.
LOCATION:Znojmo
END:VEVENT
END:VCALENDAR