BEGIN:VCALENDAR
VERSION:2.0
CALSCALE:GREGORIAN
PRODID:-//MyApp//Calendar 1.0//EN
BEGIN:VEVENT
METHOD:PUBLISH
UID:49476@regionalniportaly.cz
DTSTAMP:20260422T205226Z
DTSTART;VALUE=DATE:20251010
DTEND;VALUE=DATE:20251011
SUMMARY:Arakain & Alkehol - A+A Tour 2025 v Práče
DESCRIPTION:Koncertní turné legendárních českých rockových kapel Arakain a Alkehol.&nbsp\;Arakain oslaví 43 let na scéně!&nbsp\;Alkehol oslaví 33 let na scéně!
LOCATION:Práče
END:VEVENT
END:VCALENDAR